BEGIN:VCALENDAR
VERSION:2.0
PRODID:-//CCDC城市當代舞蹈團 - ECPv4.7.2//NONSGML v1.0//EN
CALSCALE:GREGORIAN
METHOD:PUBLISH
X-WR-CALNAME:CCDC城市當代舞蹈團
X-ORIGINAL-URL:https://www.ccdc.com.hk
X-WR-CALDESC:Events for CCDC城市當代舞蹈團
BEGIN:VEVENT
DTSTART;VALUE=DATE:20230512
DTEND;VALUE=DATE:20230515
DTSTAMP:20260425T110816
CREATED:20230310T041946Z
LAST-MODIFIED:20240227T040216Z
UID:33823-1683849600-1684108799@www.ccdc.com.hk
SUMMARY:時空觀 & 迴影
DESCRIPTION:[vc_row enable_arrows_animation=”no”][vc_column][vc_empty_space][vc_column_text] \n時空觀 & 迴影\n[/vc_column_text][vc_empty_space][vc_empty_space][/vc_column][/vc_row][vc_row enable_arrows_animation=”no”][vc_column width=”2/3″][vc_single_image image=”34414″ img_size=”full”][vc_empty_space][/vc_column][vc_column width=”1/3″][vc_column_text] \n12.5.2023 [五] 8pm*\n13.5.2023 [六] 8pm*\n14.5.2023 [日] 3pm\n葵青劇院演藝廳\n$320︱$240︱$180\n*設演後藝人談[/vc_column_text][vc_empty_space][vc_btn title=”演出場刊” color=”inverse” i_icon_fontawesome=”fa fa-ticket” add_icon=”true” link=”url:http%3A%2F%2Fwww.ccdc.com.hk%2Fwp-content%2Fuploads%2F2023%2F05%2Ftravel-of-soul-time-after-time-echo-in-the-mirror_CHI-2.pdf||target:%20_blank|”][vc_empty_space][/vc_column][/vc_row][vc_row enable_arrows_animation=”no”][vc_column width=”2/3″][vc_column_text] \n怪異大膽的視覺 細膩幽默的敍事 兩種身體美學書寫我城\n  \n超現實的觀感張力與輕訴情懷的心動 ，以雙場表演引領觀眾經歷兩代舞台美學的碰撞；倘若時間線不能避免地被拉扯著，在前進與後退之間，我們如何以過去回應當下，將來又該如何推進?[/vc_column_text][vc_empty_space][/vc_column][/vc_row][vc_row enable_arrows_animation=”no”][vc_column][vc_separator][vc_empty_space][/vc_column][/vc_row][vc_row enable_arrows_animation=”no”][vc_column width=”2/3″][vc_column_text] \n《時空觀》\n[/vc_column_text][vc_empty_space height=”12px”][vc_column_text] \n衝破禁忌之談 以儀式般的舞蹈撼動靈魂\n  \n新生代本地編舞曾景輝延續其獨特的創作題材，從傳統廣東祭祀儀式「破地獄」提煉出別樹一格的舞台美學，以視覺衝擊觀眾眼球，挑戰嚴肅的生死議題，詰問社會種種。 \n  \n詭異又強烈的形象，來回人間與地獄的身體儀式，尤如呈獻一場舞台上的祭典；所祭的是人是地？是過去、現在，抑或未來？從祭祀中得到救贖的，又將會是誰?[/vc_column_text][vc_empty_space][vc_column_text] \n綵排照片\n[/vc_column_text][vc_empty_space][vc_images_carousel images=”35344\,35389\,35395\,35398″ img_size=”full” onclick=”link_no”][vc_column_text] \n攝：Carmen SO \n[/vc_column_text][vc_empty_space][vc_column_text] \n精彩片段\n[/vc_column_text][vc_empty_space][vc_video link=”https://www.youtube.com/watch?v=AeF0RieeGhM&ab_channel=CCDCArtChannel”][vc_column_text] \n影片：黃耀權 \n[/vc_column_text][vc_empty_space][vc_column_text] \n舞台照片\n[/vc_column_text][vc_empty_space][vc_images_carousel images=”35866\,35869\,35872\,35875″ img_size=”full” onclick=”link_no”][vc_column_text] \n攝：Carmen SO\, Worldwide Dancer Project \n[/vc_column_text][vc_empty_space][/vc_column][vc_column width=”1/3″][vc_empty_space][vc_column_text] \n編舞\n曾景輝 \n音樂\n梁寶榮* \n劇場構作\n\n梁曉端 \n排練指導\n黃耀權 \n「破地獄」顧問\n黄焯傑 \n舞台及燈光設計 \n羅文偉 \n服裝設計 \n孔德瑄 \n音響設計 \n夏恩蓓  \n演出\n韓淑賢、柯志輝、高嘉敏、黎家寳、林詠茵、樂知靄、譚之卓、任詠楠^、丘善行[/vc_column_text][vc_empty_space][/vc_column][/vc_row][vc_row enable_arrows_animation=”no”][vc_column][vc_separator][vc_empty_space][/vc_column][/vc_row][vc_row enable_arrows_animation=”no”][vc_column width=”2/3″][vc_column_text] \n《迴影》\n[/vc_column_text][vc_empty_space height=”12px”][vc_column_text] \n翻開回憶連結當下 細膩交織日常光怪\n  \n駐團藝術家龐智筠全新編創舞碼，透過充滿生活感的舞蹈編排、饒富心思的舞者配搭，勾勒出新舊世代的連結與對照，同時呈現日常的荒誕。在離別之際，以赤誠之心創作、銳意跳出舒適區，為駐團生涯作一回瀟灑的總結，向我城作一場既優雅又凡俗的道別。 \n  \n是一探編者心之歸屬，也探問觀者心房所在； \n生活的痕跡總在不經意間散落在沿路，稍頓、拾起，放回當下總有意想不到的驚喜。[/vc_column_text][vc_empty_space][vc_column_text] \n綵排照片\n[/vc_column_text][vc_empty_space][vc_images_carousel images=”35401\,35404\,35407\,35410″ img_size=”full” onclick=”link_no”][vc_empty_space][vc_column_text] \n龐智筠過往作品回顧\n[/vc_column_text][vc_empty_space][vc_single_image image=”35152″ img_size=”large” onclick=”custom_link” img_link_target=”_blank” link=”https://www.youtube.com/watch?v=ezV0p3dJt_E”][vc_empty_space][vc_column_text] \n精彩片段\n[/vc_column_text][vc_empty_space][vc_video link=”https://youtu.be/NQcQQlSMSWY”][vc_empty_space][vc_column_text] \n舞台照片\n[/vc_column_text][vc_empty_space][vc_images_carousel images=”35881\,35884\,35887\,35878″ img_size=”full” onclick=”link_no”][vc_column_text] \n攝：Carmen SO\, Worldwide Dancer Project \n[/vc_column_text][vc_empty_space][/vc_column][vc_column width=”1/3″][vc_empty_space][vc_column_text] \n編舞 \n龐智筠  \n劇場構作 \n梁曉端 \n舞台及服裝設計 \n孔德瑄  \n燈光設計\n羅文偉 \n音響設計\n夏恩蓓  \n演出\n韓淑賢、高嘉敏、黎家寳、林詠茵、樂知靄、譚之卓、黃狄文、任詠楠^ \n  \n*承蒙香港演藝學院允准參與是次製作 \n^「藝術人才培育計劃」由香港藝術發展局資助[/vc_column_text][vc_empty_space][/vc_column][/vc_row][vc_row enable_arrows_animation=”no”][vc_column][vc_separator][/vc_column][/vc_row][vc_row enable_arrows_animation=”no”][vc_column width=”2/3″][vc_empty_space][vc_column_text] \n折扣優惠\n[/vc_column_text][vc_empty_space][vc_tta_accordion active_section=”0″][vc_tta_section title=”九折” tab_id=”1679972156434-47154752-7c78″][vc_column_text]香港管弦樂團港樂會會員\n中英劇團「能量粉團plus」\n香港芭蕾舞團之友\n香港中樂團摯友會會員\n香港舞蹈團「以舞會友」會員\n香港話劇團「好友營」會員\n進念之友\n電影節發燒友Classic會員、贊助會員及學生會員\n香港舞蹈聯盟會員\n普劇場之友\nMOViE MOViE會員[/vc_column_text][/vc_tta_section][vc_tta_section title=”八五折” tab_id=”1679972156463-875356aa-f2f4″][vc_column_text]CCDC 舞蹈中心 Dance Card持有人\nCCDC 舞蹈中心 Kids Card持有人\n香港演藝學院校友會會員\n香港理工大學校友聯會會員\n香港藝術行政人員協會會員\n香港電台節目製作人員工會會員[/vc_column_text][/vc_tta_section][vc_tta_section title=”八折” tab_id=”1679972156492-42a2f721-6e9b”][vc_column_text]城市當代舞蹈團「舞蹈靈」持卡人\n[/vc_column_text][/vc_tta_section][vc_tta_section title=”半價” tab_id=”1679972156524-db8cee16-9d3f”][vc_column_text]全日制學生 \n60歲或以上的高齡人士 \n殘疾人士及看護人 \n綜合社會保障援助受惠人[/vc_column_text][/vc_tta_section][vc_tta_section title=”「學生舞蹈靈」優惠” tab_id=”students-inspirations”][vc_column_text]城市當代舞蹈團「學生舞蹈靈」套票優惠*：\n會員票四折優惠，正價門票九折優惠\n城市當代舞蹈團「學生舞蹈靈」持卡人*:\n正價門票四折優惠 \n*每個演出只限購買一套/張，優惠不可同時使用 \n有效「學生舞蹈靈」卡持有人由即日起，可傳電郵至members@ccdc.com.hk，以換取乙張免費贈票。電郵主旨請註明「學生舞蹈靈換領免費贈票」。^ \n^門票座位將由主辦單位安排[/vc_column_text][/vc_tta_section][/vc_tta_accordion][/vc_column][vc_column width=”1/3″][vc_empty_space][vc_empty_space][vc_empty_space][vc_column_text]演出全場約120分鐘，設中場休息。 \n適合12歲或以上人士觀看。 \n《時空觀》含有驚嚇及令人情緒不安環節，敬請留意。 \nCCDC保留更換及/或修訂已公布的節目內容之權利。[/vc_column_text][vc_empty_space][/vc_column][/vc_row][vc_row enable_arrows_animation=”no”][vc_column][vc_separator][/vc_column][/vc_row][vc_row enable_arrows_animation=”no”][vc_column width=”2/3″][vc_empty_space][vc_column_text] \n媒體報導\n[/vc_column_text][vc_empty_space][vc_row_inner][vc_column_inner width=”1/3″]\n	        \n        \n            \n    \n	    \n		    \n		        		        		            \n		                星島日報	                \n		        							\n		\n	\n	        \n    [vc_empty_space][/vc_column_inner][vc_column_inner width=”1/3″]\n	        \n        \n            \n    \n	    \n		    \n		        		        		            \n		                大城誌	                \n		        							\n		\n	\n	        \n    [vc_empty_space][/vc_column_inner][vc_column_inner width=”1/3″]\n	        \n        \n            \n    \n	    \n		    \n		        		        		            \n		                文匯報	                \n		        							\n		\n	\n	        \n    [vc_empty_space][/vc_column_inner][/vc_row_inner][vc_row_inner][vc_column_inner width=”1/3″]\n	        \n        \n            \n    \n	    \n		    \n		        		        		            \n		                RTHK	                \n		        							\n		\n	\n	        \n    [vc_empty_space][/vc_column_inner][vc_column_inner width=”1/3″]\n	        \n        \n            \n    \n	    \n		    \n		        		        		            \n		                U Magazine	                \n		        							\n		\n	\n	        \n    [vc_empty_space][/vc_column_inner][vc_column_inner width=”1/3″]\n	        \n        \n            \n    \n	    \n		    \n		        		        		            \n		                信報	                \n		        							\n		\n	\n	        \n    [vc_empty_space][/vc_column_inner][/vc_row_inner][vc_row_inner][vc_column_inner width=”1/3″]\n	        \n        \n            \n    \n	    \n		    \n		        		        		            \n		                文化者	                \n		        							\n		\n	\n	        \n    [vc_empty_space][/vc_column_inner][vc_column_inner width=”1/3″][vc_empty_space][/vc_column_inner][vc_column_inner width=”1/3″][vc_empty_space][/vc_column_inner][/vc_row_inner][vc_empty_space][/vc_column][vc_column width=”1/3″][vc_empty_space][/vc_column][/vc_row][vc_row enable_arrows_animation=”no”][vc_column][vc_separator][/vc_column][/vc_row][vc_row enable_arrows_animation=”no”][vc_column width=”2/3″][vc_empty_space][vc_column_text] \n「觀影城市」 徵件計劃\n[/vc_column_text][vc_empty_space][vc_images_carousel images=”34916\,35038\,35041\,35044\,35047\,35050\,35053\,35056\,35059″ img_size=”full” onclick=”link_no”][vc_column_text]主題 ：致我城 Dear Hong Kong\n截稿日期 ：5.5.2023 (五) 23:59 \n獲選作品將會於《時空觀》&《迴影》網站及葵青劇院演藝廳演出前台展示。 \n形式 ：分享1張照片輔以簡短文字  （無字數限制）; 每人投稿次數不限 \n投稿渠道：\nfacebook / Instagram inbox 或\n傳送至info@ccdc.com.hk (標題請註明「觀影城市」徵件計劃) \n凡出示投稿活動的貼文或作品，可享: \n「YatGyun一捲 菲林相機店」(@yatgyun) 沖掃服務九折優惠 \n「慢曝人生」(@timeflyslowithfilm）菲林沖洗及掃描、相片沖印、購買中古相機九五折優惠 [/vc_column_text][vc_empty_space height=”8px”][vc_btn title=”獲選作品” link=”url:http%3A%2F%2Fwww.ccdc.com.hk%2Fan-echo-in-the-city-time-after-time%2F|title:%E3%80%8C%E8%A7%80%E5%BD%B1%E5%9F%8E%E5%B8%82%E3%80%8D%E5%BE%B5%E4%BB%B6%E8%A8%88%E5%8A%83%E7%8D%B2%E9%81%B8%E4%BD%9C%E5%93%81||”][vc_empty_space][/vc_column][vc_column width=”1/3″][vc_empty_space][/vc_column][/vc_row][vc_row enable_arrows_animation=”no”][vc_column][vc_separator][/vc_column][/vc_row][vc_row enable_arrows_animation=”no”][vc_column width=”2/3″][vc_empty_space][vc_column_text] \n延伸活動\n[/vc_column_text][vc_empty_space][vc_single_image image=”34912″ img_size=”large”][vc_column_text] \n對談：舞台表演破乜鬼地獄 — 曾景輝 x 黃詠詩\n\n日期及時間：29.4.2023 16:30 \n地點 : 掌門精釀啤酒 — 尖沙咀店 (金巴利道64-66號A地下) \n票價：$130 (每張門票包含330ml 掌門精釀啤酒/任何非酒精飲品一杯)[/vc_column_text][/vc_column][vc_column width=”1/3″][vc_empty_space][/vc_column][/vc_row][vc_section][/vc_section] \n
URL:https://www.ccdc.com.hk/productions/travel-of-soul-time-after-time-echo-in-the-mirror/
LOCATION:葵青劇院演藝廳
CATEGORIES:Season 2023
ATTACH;FMTTYPE=image/jpeg:https://www.ccdc.com.hk/wp-content/uploads/2023/03/season2324page-17.jpg
END:VEVENT
END:VCALENDAR